BEGIN:VCALENDAR
VERSION:2.0
PRODID:-//Desert Mountain Four Wheel Drive Club - ECPv6.15.20//NONSGML v1.0//EN
CALSCALE:GREGORIAN
METHOD:PUBLISH
X-WR-CALNAME:Desert Mountain Four Wheel Drive Club
X-ORIGINAL-URL:https://desertmountain4wdclub.com
X-WR-CALDESC:Events for Desert Mountain Four Wheel Drive Club
REFRESH-INTERVAL;VALUE=DURATION:PT1H
X-Robots-Tag:noindex
X-PUBLISHED-TTL:PT1H
BEGIN:VTIMEZONE
TZID:America/Denver
BEGIN:DAYLIGHT
TZOFFSETFROM:-0700
TZOFFSETTO:-0600
TZNAME:MDT
DTSTART:20250309T090000
END:DAYLIGHT
BEGIN:STANDARD
TZOFFSETFROM:-0600
TZOFFSETTO:-0700
TZNAME:MST
DTSTART:20251102T080000
END:STANDARD
BEGIN:DAYLIGHT
TZOFFSETFROM:-0700
TZOFFSETTO:-0600
TZNAME:MDT
DTSTART:20260308T090000
END:DAYLIGHT
BEGIN:STANDARD
TZOFFSETFROM:-0600
TZOFFSETTO:-0700
TZNAME:MST
DTSTART:20261101T080000
END:STANDARD
BEGIN:DAYLIGHT
TZOFFSETFROM:-0700
TZOFFSETTO:-0600
TZNAME:MDT
DTSTART:20270314T090000
END:DAYLIGHT
BEGIN:STANDARD
TZOFFSETFROM:-0600
TZOFFSETTO:-0700
TZNAME:MST
DTSTART:20271107T080000
END:STANDARD
END:VTIMEZONE
BEGIN:VEVENT
DTSTART;TZID=America/Denver:20260425T093000
DTEND;TZID=America/Denver:20260425T170000
DTSTAMP:20260424T111618
CREATED:20260402T010208Z
LAST-MODIFIED:20260420T203844Z
UID:9832-1777109400-1777136400@desertmountain4wdclub.com
SUMMARY:Rattle Snake Canyon with the Trail Hogs
DESCRIPTION:This ride will be with the Trail Hogs from El Paso\, they have gone out with us before in Coyote Canyon. We will decide on a trail that morning based on who or what they show up with.  Should be a good time.
URL:https://desertmountain4wdclub.com/event/rattle-snake-canyon-with-the-trail-hogs/
LOCATION:Rattle Snake Canyon Meeting Location\, 7-3 Sun Valley Road\, Tularosa\, NM\, 88352\, United States
CATEGORIES:5-6 Rated, Medium Run
END:VEVENT
BEGIN:VEVENT
DTSTART;TZID=America/Denver:20260502T093000
DTEND;TZID=America/Denver:20260502T170000
DTSTAMP:20260424T111618
CREATED:20260424T161847Z
LAST-MODIFIED:20260424T161847Z
UID:10087-1777714200-1777741200@desertmountain4wdclub.com
SUMMARY:La Luz Canyon Run\, Easy Trip
DESCRIPTION:This should be a nice scenic trip up through the forest and into the mountains.  It will be an up and back for the Side by Sides since they can’t drive on Highway 82.  So if you’re looking for that easy scenic trip this is the one for you.
URL:https://desertmountain4wdclub.com/event/la-luz-canyon-run-easy-trip/
LOCATION:Shell Gas Staion\, 185 Highway 82\, Alamogordo\, 88310\, United States
CATEGORIES:1-4 Rated, Easy Run
ORGANIZER;CN="Desert Mountain Four Wheel Drive Club":MAILTO:admin@desertmountain4wdclub.com
END:VEVENT
BEGIN:VEVENT
DTSTART;TZID=America/Denver:20260509T090000
DTEND;TZID=America/Denver:20260509T170000
DTSTAMP:20260424T111618
CREATED:20260424T162630Z
LAST-MODIFIED:20260424T164614Z
UID:10092-1778317200-1778346000@desertmountain4wdclub.com
SUMMARY:Red Sands Run\, Fun in the sand.
DESCRIPTION:We’ll be heading into Red Sands and having some fun in the sand.  I need some video of Red Sands so put on your best acting faces and lets have some fun.  Meeting at the truck weigh station across from Dog Canyon Road on Highway 82 at 9:00AM.
URL:https://desertmountain4wdclub.com/event/red-sands-run-fun-in-the-sand/
LOCATION:Red Sands Meeting Location\, 5506 US-54\, Alamogordo\, NM\, 88310\, United States
CATEGORIES:1-4 Rated, Easy Run
ORGANIZER;CN="Desert Mountain Four Wheel Drive Club":MAILTO:admin@desertmountain4wdclub.com
END:VEVENT
BEGIN:VEVENT
DTSTART;TZID=America/Denver:20260516T093000
DTEND;TZID=America/Denver:20260516T170000
DTSTAMP:20260424T111618
CREATED:20260424T164010Z
LAST-MODIFIED:20260424T164120Z
UID:10096-1778923800-1778950800@desertmountain4wdclub.com
SUMMARY:Sweet Pea\, Level 8 Extreme Trail
DESCRIPTION:This will be a new trail for me and from what I hear there is a pretty nasty waterfall to climb to get out.  We’ll be meeting at Jason’s house\, 367 Mountain Meadow Road.  Those looking for an extreme trail this may be the one.
URL:https://desertmountain4wdclub.com/event/sweet-pea-level-8-extreme-trail/
LOCATION:Mountain Meadows Road Area\, 367 Mountain Meadows Road\, Alamogordo\, NM\, 88310\, United States
CATEGORIES:7-8 Rated, Hard Run
END:VEVENT
BEGIN:VEVENT
DTSTART;TZID=America/Denver:20260519T173000
DTEND;TZID=America/Denver:20260519T190000
DTSTAMP:20260424T111618
CREATED:20260424T165038Z
LAST-MODIFIED:20260424T165038Z
UID:10105-1779211800-1779217200@desertmountain4wdclub.com
SUMMARY:Club Meeting\, Pizza 9
DESCRIPTION:Come join us at Pizza 9 for our monthly meeting\, good food and good people.
URL:https://desertmountain4wdclub.com/event/club-meeting-pizza-9/
LOCATION:Pizza 9\, 3199 N White Sands Blvd\, Alamogordo\, NM\, 88310\, United States
CATEGORIES:Meeting
ORGANIZER;CN="Desert Mountain Four Wheel Drive Club":MAILTO:admin@desertmountain4wdclub.com
END:VEVENT
BEGIN:VEVENT
DTSTART;TZID=America/Denver:20261014T080000
DTEND;TZID=America/Denver:20261017T190000
DTSTAMP:20260424T111618
CREATED:20260224T222332Z
LAST-MODIFIED:20260224T224002Z
UID:9264-1791964800-1792263600@desertmountain4wdclub.com
SUMMARY:2026 Chile Challenge
DESCRIPTION:Time for the Chile Challenge annual off road event. Trails to meet every level of skill and equipment. Not Free!!
URL:https://desertmountain4wdclub.com/event/2026-chile-challenge/
LOCATION:Caballo Lake\, Riverside RV Park\, Riverside Park Rd\, Caballo\, NM 87931\, New Mexico\, 87931\, United States
CATEGORIES:Off Road Event
END:VEVENT
END:VCALENDAR